BEGIN:VCALENDAR
VERSION:2.0
PRODID:-//Suomen Helluntaikansa ry - ECPv6.15.20//NONSGML v1.0//EN
CALSCALE:GREGORIAN
METHOD:PUBLISH
X-WR-CALNAME:Suomen Helluntaikansa ry
X-ORIGINAL-URL:https://helluntaikansa.fi
X-WR-CALDESC:Tapahtumat Suomen Helluntaikansa ry
REFRESH-INTERVAL;VALUE=DURATION:PT1H
X-Robots-Tag:noindex
X-PUBLISHED-TTL:PT1H
BEGIN:VTIMEZONE
TZID:Europe/Helsinki
BEGIN:DAYLIGHT
TZOFFSETFROM:+0200
TZOFFSETTO:+0300
TZNAME:EEST
DTSTART:20250330T010000
END:DAYLIGHT
BEGIN:STANDARD
TZOFFSETFROM:+0300
TZOFFSETTO:+0200
TZNAME:EET
DTSTART:20251026T010000
END:STANDARD
BEGIN:DAYLIGHT
TZOFFSETFROM:+0200
TZOFFSETTO:+0300
TZNAME:EEST
DTSTART:20260329T010000
END:DAYLIGHT
BEGIN:STANDARD
TZOFFSETFROM:+0300
TZOFFSETTO:+0200
TZNAME:EET
DTSTART:20261025T010000
END:STANDARD
BEGIN:DAYLIGHT
TZOFFSETFROM:+0200
TZOFFSETTO:+0300
TZNAME:EEST
DTSTART:20270328T010000
END:DAYLIGHT
BEGIN:STANDARD
TZOFFSETFROM:+0300
TZOFFSETTO:+0200
TZNAME:EET
DTSTART:20271031T010000
END:STANDARD
END:VTIMEZONE
BEGIN:VEVENT
DTSTART;VALUE=DATE:20260425
DTEND;VALUE=DATE:20260426
DTSTAMP:20260425T151822
CREATED:20260127T082653Z
LAST-MODIFIED:20260127T082653Z
UID:3871-1777075200-1777161599@helluntaikansa.fi
SUMMARY:Suomen helluntaikansa ry:n vuosikokous
DESCRIPTION:
URL:https://helluntaikansa.fi/tapahtuma/suomen-helluntaikansa-ryn-vuosikokous/
LOCATION:Mertiöranta\, Vihuntie 21\, Jämijärvi\, 38800\, Suomi
END:VEVENT
BEGIN:VEVENT
DTSTART;VALUE=DATE:20260501
DTEND;VALUE=DATE:20260504
DTSTAMP:20260425T151822
CREATED:20260114T093430Z
LAST-MODIFIED:20260302T184930Z
UID:3860-1777593600-1777852799@helluntaikansa.fi
SUMMARY:Nuorten ja nuortenaikuisten viikonloppu
DESCRIPTION:Opettajina: \nMarkku Kuokkanen (pe-su) ja Ville Rossi (la-su). \n  \nNuorten ja nuorten aikuisten päivien 01.-03.05.\nOhjelma\n\nPerjantai\nklo 15:00 Majoittautuminen ja pientä välipalaa\nklo 16:30 Päivien aloitustilaisuus ja tutustuminen\nklo 17:00 Raamatun opetusta (Markku: Elämä turvallisissa käsissä)\nklo 18:00 Kevyt päivällinen\, jonka jälkeen vietämme yhdessä iltaa\nlaulaen ja rukoillen\, välillä iltapalaa syöden. Sanan osuus (Markku) \n\nLauantai\nklo 8:00  Aamiainen\nklo 9:00  Rukoillen uuteen päivään\nklo 9:30  Raamatun opetusta (Markku: Jeesus\, heikkoutemme apu)\nklo 10:30 Raamatun opetusta (Ville: Luominen)\nklo 12:00 Lounasruokailu\nklo 13:00 Raamatun opetusta (Ville: Lankeemus)\nklo 14:00 Raamatun opetusta (Ville: Liitto)\nklo 15:00 Päiväkahvi\, jonka jälkeen liikunnallinen hetki ja saunat\nklo 18:00 Kevyt päivällinan\, jonka jälkeen vietämme yhdessä iltaa\nlaulaen ja rukoillen\, välillä iltapalaa syöden. \n  \nSunnuntai\nklo  8:00 Aamiainen\nklo  9:00 Rukoillen uuteen päivään\nklo  9:30 Raamatun opetusta ( Ville: Laki)\nklo 10:30 Raamatun opetusta (Markku: Totuuden Jumala)\nklo 11:30 Lounasruokailu\nklo 12:30 Raamatun opetusta ( Ville: Lunastus)\nklo 13:30 Raamatun opetusta ( Ville: Lupaus)\nklo 14:30 Lopuksi nautimme lähtökahvit ja kotimatka alkaa
URL:https://helluntaikansa.fi/tapahtuma/nuorten-ja-nuortenaikuisten-viikonloppu/
LOCATION:Mertiöranta\, Vihuntie 21\, Jämijärvi\, 38800\, Suomi
END:VEVENT
BEGIN:VEVENT
DTSTART;TZID=Europe/Helsinki:20260516T130000
DTEND;TZID=Europe/Helsinki:20260516T170000
DTSTAMP:20260425T151822
CREATED:20260416T084921Z
LAST-MODIFIED:20260416T085111Z
UID:3934-1778936400-1778950800@helluntaikansa.fi
SUMMARY:Suomi Baltia Apu ry:n järjestämä tilaisuus
DESCRIPTION:Puhujana: Jari Kenttä\n  \nTilaisuuden päätyttyä ruoka ja kahvi.\nTilaisuus on kaikille avoin.
URL:https://helluntaikansa.fi/tapahtuma/suomi-baltia-apu-ryn-jarjestama-tilaisuus/
LOCATION:Mertiöranta\, Vihuntie 21\, Jämijärvi\, 38800\, Suomi
END:VEVENT
BEGIN:VEVENT
DTSTART;VALUE=DATE:20260601
DTEND;VALUE=DATE:20260608
DTSTAMP:20260425T151822
CREATED:20260416T090229Z
LAST-MODIFIED:20260416T090229Z
UID:3938-1780272000-1780876799@helluntaikansa.fi
SUMMARY:Varattu leirikäyttöön
DESCRIPTION:
URL:https://helluntaikansa.fi/tapahtuma/varattu-leirikayttoon-6/
LOCATION:Mertiöranta\, Vihuntie 21\, Jämijärvi\, 38800\, Suomi
END:VEVENT
BEGIN:VEVENT
DTSTART;VALUE=DATE:20260619
DTEND;VALUE=DATE:20260622
DTSTAMP:20260425T151822
CREATED:20260127T083033Z
LAST-MODIFIED:20260331T125703Z
UID:3873-1781827200-1782086399@helluntaikansa.fi
SUMMARY:Mertiörannan juhannus
DESCRIPTION:Mertiörannan Juhannus\, 19.-21.6.2026\nOhjelma:\nPerjantai 19.6.\nKlo 11 Aloituskokous\, Markku Kuokkanen\, johtaa Seppo Kohtamäki\nKlo 12.15 Ruokailu\nKlo 14 Israel/Lähetysjuhla\, Hannu Lahtinen Marttyyrien Äänestä\, johtaa Heikki Huttunen\nKlo 15.30 Virvoketauko\nKlo 17 Sanoin ja sävelin\, Kyösti ja Ritva Nikkinen\, Leif Isberg\, johtaa\nReino Komonen\nKlo 19.30 Aaton evankeliumijuhla\, Rainer Hedman\,\nyhdistetty kuoro-Hannu Grönroos\, johtaa Rauno Tuomisto \nLauantai 20.6.\nKlo 10 Päivän avaus\, Onni Välisalo\nKlo 11 Sanan äärellä\, Juhana Lehmuskoski\, johtaa Juhani Glade\nKlo 12.15 Ruokailu\nKlo 14 Kiitosjuhla\, Waskiveljet\, Mathias Wienreich\, rakennus-\ntalkoolaisia\, johtaa Reino Komonen\nKlo 16 Virvoketauko\nKlo 17 Waskiveljet\, kuoro\, Hannu Grönroos\nKlo 19.30 Evankeliumi-ilta\, Ilona Haukka\, Hilkka Sillanpää\,Nikkiset\,\njohtaa ? \nSunnuntai 21.6.\nKlo 9 Aamun avaus\, Ilkka Hakkarainen\nKlo 10 Lähetysjuhla\, Aki ja Nina Liimatainen\, johtaa Juhana Lehmuskoski\nKlo 12 Päätösjuhla\, Henry ja Sanna Hedman\, johtaa Reino Komonen \nLastenkokoukset koululla pe klo 14 ja 17\nla klo 14 ja 17
URL:https://helluntaikansa.fi/tapahtuma/mertiorannan-juhannus/
END:VEVENT
BEGIN:VEVENT
DTSTART;VALUE=DATE:20260624
DTEND;VALUE=DATE:20260628
DTSTAMP:20260425T151822
CREATED:20260127T083139Z
LAST-MODIFIED:20260127T083416Z
UID:3875-1782259200-1782604799@helluntaikansa.fi
SUMMARY:Varattu leirikäyttöön
DESCRIPTION:
URL:https://helluntaikansa.fi/tapahtuma/varattu-leirikayttoon/
END:VEVENT
BEGIN:VEVENT
DTSTART;VALUE=DATE:20260703
DTEND;VALUE=DATE:20260706
DTSTAMP:20260425T151822
CREATED:20260127T083212Z
LAST-MODIFIED:20260127T083439Z
UID:3877-1783036800-1783295999@helluntaikansa.fi
SUMMARY:Varattu leirikäyttöön
DESCRIPTION:
URL:https://helluntaikansa.fi/tapahtuma/varattu-leirikayttoon-2/
END:VEVENT
BEGIN:VEVENT
DTSTART;VALUE=DATE:20260706
DTEND;VALUE=DATE:20260711
DTSTAMP:20260425T151822
CREATED:20260127T083237Z
LAST-MODIFIED:20260127T083501Z
UID:3879-1783296000-1783727999@helluntaikansa.fi
SUMMARY:Varattu leirikäyttöön
DESCRIPTION:
URL:https://helluntaikansa.fi/tapahtuma/varattu-leirikayttoon-3/
END:VEVENT
BEGIN:VEVENT
DTSTART;VALUE=DATE:20260716
DTEND;VALUE=DATE:20260720
DTSTAMP:20260425T151822
CREATED:20260127T083311Z
LAST-MODIFIED:20260127T083311Z
UID:3881-1784160000-1784505599@helluntaikansa.fi
SUMMARY:Varattu leirikäyttöön
DESCRIPTION:
URL:https://helluntaikansa.fi/tapahtuma/varattu-leirikayttoon-4/
END:VEVENT
BEGIN:VEVENT
DTSTART;VALUE=DATE:20260801
DTEND;VALUE=DATE:20260803
DTSTAMP:20260425T151822
CREATED:20260127T083339Z
LAST-MODIFIED:20260127T083339Z
UID:3883-1785542400-1785715199@helluntaikansa.fi
SUMMARY:Varattu leirikäyttöön
DESCRIPTION:
URL:https://helluntaikansa.fi/tapahtuma/varattu-leirikayttoon-5/
END:VEVENT
END:VCALENDAR